BEGIN:VCALENDAR
VERSION:2.0
PRODID:-//First Eye Inc. - ECPv6.13.2.1//NONSGML v1.0//EN
CALSCALE:GREGORIAN
METHOD:PUBLISH
X-ORIGINAL-URL:https://firsteyeinc.org
X-WR-CALDESC:Events for First Eye Inc.
REFRESH-INTERVAL;VALUE=DURATION:PT1H
X-Robots-Tag:noindex
X-PUBLISHED-TTL:PT1H
BEGIN:VTIMEZONE
TZID:Asia/Krasnoyarsk
BEGIN:STANDARD
TZOFFSETFROM:+0700
TZOFFSETTO:+0700
TZNAME:+07
DTSTART:20240101T000000
END:STANDARD
END:VTIMEZONE
BEGIN:VEVENT
DTSTART;TZID=Asia/Krasnoyarsk:20240906T080000
DTEND;TZID=Asia/Krasnoyarsk:20240906T170000
DTSTAMP:20260424T113829
CREATED:20250609T162357Z
LAST-MODIFIED:20250612T052047Z
UID:4235-1725609600-1725642000@firsteyeinc.org
SUMMARY:Exchange Programme\, Festival and Cultural Tourism\, Chicago 2024
DESCRIPTION:Exchange Programme\, Festival and Cultural Tourism\, Chicago 2024\n\n 
URL:https://firsteyeinc.org/event/exchange-programme-festival-and-cultural-tourism-chicago-2024-september-6-2024-800-am-500-pm-free/
LOCATION:Venue:\, MALCOLM X MAIN AUDITORIUM JACKSON BLVD CHICAGO\, IL 1900 W United States\, CHICAGO\, IL\, 1900 W\, United States
CATEGORIES:Yoruba Festival
ATTACH;FMTTYPE=image/jpeg:https://firsteyeinc.org/wp-content/uploads/2025/06/CHICAGO-2024R.jpg
ORGANIZER;CN="FIRST EYE INC. CONCEPT":MAILTO:firsteyec@gmail.com
END:VEVENT
END:VCALENDAR