BEGIN:VCALENDAR
VERSION:2.0
PRODID:-//First Eye Inc. - ECPv6.13.2.1//NONSGML v1.0//EN
CALSCALE:GREGORIAN
METHOD:PUBLISH
X-ORIGINAL-URL:https://firsteyeinc.org
X-WR-CALDESC:Events for First Eye Inc.
REFRESH-INTERVAL;VALUE=DURATION:PT1H
X-Robots-Tag:noindex
X-PUBLISHED-TTL:PT1H
BEGIN:VTIMEZONE
TZID:Asia/Krasnoyarsk
BEGIN:STANDARD
TZOFFSETFROM:+0700
TZOFFSETTO:+0700
TZNAME:+07
DTSTART:20240101T000000
END:STANDARD
END:VTIMEZONE
BEGIN:VEVENT
DTSTART;VALUE=DATE:20240907
DTEND;VALUE=DATE:20240910
DTSTAMP:20260424T113931
CREATED:20250609T164710Z
LAST-MODIFIED:20250612T075410Z
UID:4246-1725667200-1725926399@firsteyeinc.org
SUMMARY:(The Grand Finale) Cultural Night and Awards\, Chicago 2024
DESCRIPTION:(The Grand Finale) Cultural Night and Awards\, Chicago 2024
URL:https://firsteyeinc.org/event/the-grand-finale-cultural-night-and-awards-chicago-2024/
LOCATION:Venue:\, MALCOLM X MAIN AUDITORIUM JACKSON BLVD CHICAGO\, IL 1900 W United States\, CHICAGO\, IL\, 1900 W\, United States
CATEGORIES:Cultural Night
ATTACH;FMTTYPE=image/jpeg:https://firsteyeinc.org/wp-content/uploads/2025/06/CHICAGO-2024L.jpg
ORGANIZER;CN="FIRST EYE INC. CONCEPT":MAILTO:firsteyec@gmail.com
END:VEVENT
END:VCALENDAR